OziExplorer Map Data File Version 2.2
100k--m38-040--1987.gif
100k--m38-040--1987.gif
1 ,Map Code,
Pulkovo 1942 (2),WGS 84, 0.0000, 0.0000,WGS 84
Reserved 1
Reserved 2
Magnetic Variation,,,E
Map Projection,Transverse Mercator,PolyCal,No,AutoCalOnly,No,BSBUseWPX,No
Point01,xy, 110, 97,in, deg, 51, 0.0000,N, 43, 30.0000,E, grid, , , ,N
Point02,xy, 1490, 102,in, deg, 51, 0.0000,N, 43, 45.0000,E, grid, , , ,N
Point03,xy, 2870, 100,in, deg, 51, 0.0000,N, 44, 0.0000,E, grid, , , ,N
Point04,xy, 102, 1552,in, deg, 50, 50.0000,N, 43, 30.0000,E, grid, , , ,N
Point05,xy, 1490, 1557,in, deg, 50, 50.0000,N, 43, 45.0000,E, grid, , , ,N
Point06,xy, 2876, 1555,in, deg, 50, 50.0000,N, 44, 0.0000,E, grid, , , ,N
Point07,xy, 96, 3010,in, deg, 50, 40.0000,N, 43, 30.0000,E, grid, , , ,N
Point08,xy, 1489, 3012,in, deg, 50, 40.0000,N, 43, 45.0000,E, grid, , , ,N
Point09,xy, 2882, 3011,in, deg, 50, 40.0000,N, 44, 0.0000,E, grid, , , ,N
Point10,xy, , ,in, deg, , ,N, , ,W, grid, , , ,N
Point11,xy, , ,in, deg, , ,N, , ,W, grid, , , ,N
Point12,xy, , ,in, deg, , ,N, , ,W, grid, , , ,N
Point13,xy, , ,in, deg, , ,N, , ,W, grid, , , ,N
Point14,xy, , ,in, deg, , ,N, , ,W, grid, , , ,N
Point15,xy, , ,in, deg, , ,N, , ,W, grid, , , ,N
Point16,xy, , ,in, deg, , ,N, , ,W, grid, , , ,N
Point17,xy, , ,in, deg, , ,N, , ,W, grid, , , ,N
Point18,xy, , ,in, deg, , ,N, , ,W, grid, , , ,N
Point19,xy, , ,in, deg, , ,N, , ,W, grid, , , ,N
Point20,xy, , ,in, deg, , ,N, , ,W, grid, , , ,N
Point21,xy, , ,in, deg, , ,N, , ,W, grid, , , ,N
Point22,xy, , ,in, deg, , ,N, , ,W, grid, , , ,N
Point23,xy, , ,in, deg, , ,N, , ,W, grid, , , ,N
Point24,xy, , ,in, deg, , ,N, , ,W, grid, , , ,N
Point25,xy, , ,in, deg, , ,N, , ,W, grid, , , ,N
Point26,xy, , ,in, deg, , ,N, , ,W, grid, , , ,N
Point27,xy, , ,in, deg, , ,N, , ,W, grid, , , ,N
Point28,xy, , ,in, deg, , ,N, , ,W, grid, , , ,N
Point29,xy, , ,in, deg, , ,N, , ,W, grid, , , ,N
Point30,xy, , ,in, deg, , ,N, , ,W, grid, , , ,N
Projection Setup, 0.000000000, 45.000000000, 1.000000000, 500000.00, 0.00,,,,,
Map Feature = MF ; Map Comment = MC These follow if they exist
Track File = TF These follow if they exist
Moving Map Parameters = MM? These follow if they exist
MM0,Yes
MMPNUM,4
MMPXY,1,95,99
MMPXY,2,2885,99
MMPXY,3,2885,3005
MMPXY,4,95,3005
MMPLL,1, 43.497610, 50.999815
MMPLL,2, 44.002412, 51.000096
MMPLL,3, 44.000802, 50.667364
MMPLL,4, 43.499577, 50.667109
MM1B,12.695740
MOP,Map Open Position,0,0
IWH,Map Image Width/Height,2980,3104
