OziExplorer Map Data File Version 2.2
100k--m38-044.gif
100k--m38-044.gif
1 ,Map Code,
Pulkovo 1942 (2),WGS 84, 0.0000, 0.0000,WGS 84
Reserved 1
Reserved 2
Magnetic Variation,,,E
Map Projection,Transverse Mercator,PolyCal,No,AutoCalOnly,No,BSBUseWPX,No
Point01,xy, 94, 88,in, deg, 51, 0.0000,N, 45, 30.0000,E, grid, , , ,N
Point02,xy, 1459, 92,in, deg, 51, 0.0000,N, 45, 45.0000,E, grid, , , ,N
Point03,xy, 2825, 93,in, deg, 51, 0.0000,N, 46, 0.0000,E, grid, , , ,N
Point04,xy, 88, 1531,in, deg, 50, 50.0000,N, 45, 30.0000,E, grid, , , ,N
Point05,xy, 1459, 1537,in, deg, 50, 50.0000,N, 45, 45.0000,E, grid, , , ,N
Point06,xy, 2828, 1537,in, deg, 50, 50.0000,N, 46, 0.0000,E, grid, , , ,N
Point07,xy, 81, 2978,in, deg, 50, 40.0000,N, 45, 30.0000,E, grid, , , ,N
Point08,xy, 1457, 2988,in, deg, 50, 40.0000,N, 45, 45.0000,E, grid, , , ,N
Point09,xy, 2832, 2985,in, deg, 50, 40.0000,N, 46, 0.0000,E, grid, , , ,N
Point10,xy, , ,in, deg, , ,N, , ,W, grid, , , ,N
Point11,xy, , ,in, deg, , ,N, , ,W, grid, , , ,N
Point12,xy, , ,in, deg, , ,N, , ,W, grid, , , ,N
Point13,xy, , ,in, deg, , ,N, , ,W, grid, , , ,N
Point14,xy, , ,in, deg, , ,N, , ,W, grid, , , ,N
Point15,xy, , ,in, deg, , ,N, , ,W, grid, , , ,N
Point16,xy, , ,in, deg, , ,N, , ,W, grid, , , ,N
Point17,xy, , ,in, deg, , ,N, , ,W, grid, , , ,N
Point18,xy, , ,in, deg, , ,N, , ,W, grid, , , ,N
Point19,xy, , ,in, deg, , ,N, , ,W, grid, , , ,N
Point20,xy, , ,in, deg, , ,N, , ,W, grid, , , ,N
Point21,xy, , ,in, deg, , ,N, , ,W, grid, , , ,N
Point22,xy, , ,in, deg, , ,N, , ,W, grid, , , ,N
Point23,xy, , ,in, deg, , ,N, , ,W, grid, , , ,N
Point24,xy, , ,in, deg, , ,N, , ,W, grid, , , ,N
Point25,xy, , ,in, deg, , ,N, , ,W, grid, , , ,N
Point26,xy, , ,in, deg, , ,N, , ,W, grid, , , ,N
Point27,xy, , ,in, deg, , ,N, , ,W, grid, , , ,N
Point28,xy, , ,in, deg, , ,N, , ,W, grid, , , ,N
Point29,xy, , ,in, deg, , ,N, , ,W, grid, , , ,N
Point30,xy, , ,in, deg, , ,N, , ,W, grid, , , ,N
Projection Setup, 0.000000000, 45.000000000, 1.000000000, 500000.00, 0.00,,,,,
Map Feature = MF ; Map Comment = MC These follow if they exist
Track File = TF These follow if they exist
Moving Map Parameters = MM? These follow if they exist
MM0,Yes
MMPNUM,4
MMPXY,1,94,88
MMPXY,2,2825,93
MMPXY,3,2832,2985
MMPXY,4,81,2978
MMPLL,1, 45.500000, 51.000000
MMPLL,2, 46.000000, 51.000000
MMPLL,3, 46.000000, 50.666667
MMPLL,4, 45.500000, 50.666667
MM1B,11.997406
MOP,Map Open Position,0,0
IWH,Map Image Width/Height,2910,3084
