OziExplorer Map Data File Version 2.2
100k--m38-058--1987.gif
100k--m38-058--1987.gif
1 ,Map Code,
Pulkovo 1942 (2),WGS 84, 0.0000, 0.0000,WGS 84
Reserved 1
Reserved 2
Magnetic Variation,,,E
Map Projection,Transverse Mercator,PolyCal,No,AutoCalOnly,No,BSBUseWPX,No
Point01,xy, 104, 90,in, deg, 50, 40.0000,N, 46, 30.0000,E, grid, , , ,N
Point02,xy, 1491, 90,in, deg, 50, 40.0000,N, 46, 45.0000,E, grid, , , ,N
Point03,xy, 2882, 86,in, deg, 50, 40.0000,N, 47, 0.0000,E, grid, , , ,N
Point04,xy, 100, 1547,in, deg, 50, 30.0000,N, 46, 30.0000,E, grid, , , ,N
Point05,xy, 1492, 1545,in, deg, 50, 30.0000,N, 46, 45.0000,E, grid, , , ,N
Point06,xy, 2888, 1540,in, deg, 50, 30.0000,N, 47, 0.0000,E, grid, , , ,N
Point07,xy, 94, 3003,in, deg, 50, 20.0000,N, 46, 30.0000,E, grid, , , ,N
Point08,xy, 1496, 3004,in, deg, 50, 20.0000,N, 46, 45.0000,E, grid, , , ,N
Point09,xy, 2897, 3000,in, deg, 50, 20.0000,N, 47, 0.0000,E, grid, , , ,N
Point10,xy, , ,in, deg, , ,N, , ,W, grid, , , ,N
Point11,xy, , ,in, deg, , ,N, , ,W, grid, , , ,N
Point12,xy, , ,in, deg, , ,N, , ,W, grid, , , ,N
Point13,xy, , ,in, deg, , ,N, , ,W, grid, , , ,N
Point14,xy, , ,in, deg, , ,N, , ,W, grid, , , ,N
Point15,xy, , ,in, deg, , ,N, , ,W, grid, , , ,N
Point16,xy, , ,in, deg, , ,N, , ,W, grid, , , ,N
Point17,xy, , ,in, deg, , ,N, , ,W, grid, , , ,N
Point18,xy, , ,in, deg, , ,N, , ,W, grid, , , ,N
Point19,xy, , ,in, deg, , ,N, , ,W, grid, , , ,N
Point20,xy, , ,in, deg, , ,N, , ,W, grid, , , ,N
Point21,xy, , ,in, deg, , ,N, , ,W, grid, , , ,N
Point22,xy, , ,in, deg, , ,N, , ,W, grid, , , ,N
Point23,xy, , ,in, deg, , ,N, , ,W, grid, , , ,N
Point24,xy, , ,in, deg, , ,N, , ,W, grid, , , ,N
Point25,xy, , ,in, deg, , ,N, , ,W, grid, , , ,N
Point26,xy, , ,in, deg, , ,N, , ,W, grid, , , ,N
Point27,xy, , ,in, deg, , ,N, , ,W, grid, , , ,N
Point28,xy, , ,in, deg, , ,N, , ,W, grid, , , ,N
Point29,xy, , ,in, deg, , ,N, , ,W, grid, , , ,N
Point30,xy, , ,in, deg, , ,N, , ,W, grid, , , ,N
Projection Setup, 0.000000000, 45.000000000, 1.000000000, 500000.00, 0.00,,,,,
Map Feature = MF ; Map Comment = MC These follow if they exist
Track File = TF These follow if they exist
Moving Map Parameters = MM? These follow if they exist
MM0,Yes
MMPNUM,4
MMPXY,1,96,99
MMPXY,2,2902,99
MMPXY,3,2902,2989
MMPXY,4,96,2989
MMPLL,1, 46.498891, 50.665611
MMPLL,2, 47.003579, 50.665051
MMPLL,3, 47.001225, 50.334448
MMPLL,4, 46.500048, 50.334970
MM1B,12.710877
MOP,Map Open Position,0,0
IWH,Map Image Width/Height,2998,3088
