OziExplorer Map Data File Version 2.2
100k--m38-063--1996.gif
100k--m38-063--1996.gif
1 ,Map Code,
Pulkovo 1942 (2),WGS 84, 0.0000, 0.0000,WGS 84
Reserved 1
Reserved 2
Magnetic Variation,,,E
Map Projection,Transverse Mercator,PolyCal,No,AutoCalOnly,No,BSBUseWPX,No
Point01,xy, 119, 90,in, deg, 50, 20.0000,N, 43, 0.0000,E, grid, , , ,N
Point02,xy, 1519, 97,in, deg, 50, 20.0000,N, 43, 15.0000,E, grid, , , ,N
Point03,xy, 2923, 101,in, deg, 50, 20.0000,N, 43, 30.0000,E, grid, , , ,N
Point04,xy, 106, 1540,in, deg, 50, 10.0000,N, 43, 0.0000,E, grid, , , ,N
Point05,xy, 1515, 1552,in, deg, 50, 10.0000,N, 43, 15.0000,E, grid, , , ,N
Point06,xy, 2922, 1558,in, deg, 50, 10.0000,N, 43, 30.0000,E, grid, , , ,N
Point07,xy, 95, 3004,in, deg, 50, 0.0000,N, 43, 0.0000,E, grid, , , ,N
Point08,xy, 1510, 3012,in, deg, 50, 0.0000,N, 43, 15.0000,E, grid, , , ,N
Point09,xy, 2923, 3014,in, deg, 50, 0.0000,N, 43, 30.0000,E, grid, , , ,N
Point10,xy, , ,in, deg, , ,N, , ,W, grid, , , ,N
Point11,xy, , ,in, deg, , ,N, , ,W, grid, , , ,N
Point12,xy, , ,in, deg, , ,N, , ,W, grid, , , ,N
Point13,xy, , ,in, deg, , ,N, , ,W, grid, , , ,N
Point14,xy, , ,in, deg, , ,N, , ,W, grid, , , ,N
Point15,xy, , ,in, deg, , ,N, , ,W, grid, , , ,N
Point16,xy, , ,in, deg, , ,N, , ,W, grid, , , ,N
Point17,xy, , ,in, deg, , ,N, , ,W, grid, , , ,N
Point18,xy, , ,in, deg, , ,N, , ,W, grid, , , ,N
Point19,xy, , ,in, deg, , ,N, , ,W, grid, , , ,N
Point20,xy, , ,in, deg, , ,N, , ,W, grid, , , ,N
Point21,xy, , ,in, deg, , ,N, , ,W, grid, , , ,N
Point22,xy, , ,in, deg, , ,N, , ,W, grid, , , ,N
Point23,xy, , ,in, deg, , ,N, , ,W, grid, , , ,N
Point24,xy, , ,in, deg, , ,N, , ,W, grid, , , ,N
Point25,xy, , ,in, deg, , ,N, , ,W, grid, , , ,N
Point26,xy, , ,in, deg, , ,N, , ,W, grid, , , ,N
Point27,xy, , ,in, deg, , ,N, , ,W, grid, , , ,N
Point28,xy, , ,in, deg, , ,N, , ,W, grid, , , ,N
Point29,xy, , ,in, deg, , ,N, , ,W, grid, , , ,N
Point30,xy, , ,in, deg, , ,N, , ,W, grid, , , ,N
Projection Setup, 0.000000000, 45.000000000, 1.000000000, 500000.00, 0.00,,,,,
Map Feature = MF ; Map Comment = MC These follow if they exist
Track File = TF These follow if they exist
Moving Map Parameters = MM? These follow if they exist
MM0,Yes
MMPNUM,4
MMPXY,1,97,99
MMPXY,2,2924,99
MMPXY,3,2924,3009
MMPXY,4,97,3009
MMPLL,1, 42.996439, 50.332017
MMPLL,2, 43.500129, 50.333536
MMPLL,3, 43.500341, 50.000647
MMPLL,4, 43.000138, 49.999173
MM1B,12.681178
MOP,Map Open Position,0,0
IWH,Map Image Width/Height,3021,3108
