OziExplorer Map Data File Version 2.2
100k--m38-066--1987.gif
100k--m38-066--1987.gif
1 ,Map Code,
Pulkovo 1942 (2),WGS 84, 0.0000, 0.0000,WGS 84
Reserved 1
Reserved 2
Magnetic Variation,,,E
Map Projection,Transverse Mercator,PolyCal,No,AutoCalOnly,No,BSBUseWPX,No
Point01,xy, 101, 94,in, deg, 50, 20.0000,N, 44, 30.0000,E, grid, , , ,N
Point02,xy, 1502, 100,in, deg, 50, 20.0000,N, 44, 45.0000,E, grid, , , ,N
Point03,xy, 2899, 98,in, deg, 50, 20.0000,N, 45, 0.0000,E, grid, , , ,N
Point04,xy, 94, 1555,in, deg, 50, 10.0000,N, 44, 30.0000,E, grid, , , ,N
Point05,xy, 1498, 1556,in, deg, 50, 10.0000,N, 44, 45.0000,E, grid, , , ,N
Point06,xy, 2904, 1556,in, deg, 50, 10.0000,N, 45, 0.0000,E, grid, , , ,N
Point07,xy, 85, 3012,in, deg, 50, 0.0000,N, 44, 30.0000,E, grid, , , ,N
Point08,xy, 1500, 3017,in, deg, 50, 0.0000,N, 44, 45.0000,E, grid, , , ,N
Point09,xy, 2908, 3014,in, deg, 50, 0.0000,N, 45, 0.0000,E, grid, , , ,N
Point10,xy, , ,in, deg, , ,N, , ,W, grid, , , ,N
Point11,xy, , ,in, deg, , ,N, , ,W, grid, , , ,N
Point12,xy, , ,in, deg, , ,N, , ,W, grid, , , ,N
Point13,xy, , ,in, deg, , ,N, , ,W, grid, , , ,N
Point14,xy, , ,in, deg, , ,N, , ,W, grid, , , ,N
Point15,xy, , ,in, deg, , ,N, , ,W, grid, , , ,N
Point16,xy, , ,in, deg, , ,N, , ,W, grid, , , ,N
Point17,xy, , ,in, deg, , ,N, , ,W, grid, , , ,N
Point18,xy, , ,in, deg, , ,N, , ,W, grid, , , ,N
Point19,xy, , ,in, deg, , ,N, , ,W, grid, , , ,N
Point20,xy, , ,in, deg, , ,N, , ,W, grid, , , ,N
Point21,xy, , ,in, deg, , ,N, , ,W, grid, , , ,N
Point22,xy, , ,in, deg, , ,N, , ,W, grid, , , ,N
Point23,xy, , ,in, deg, , ,N, , ,W, grid, , , ,N
Point24,xy, , ,in, deg, , ,N, , ,W, grid, , , ,N
Point25,xy, , ,in, deg, , ,N, , ,W, grid, , , ,N
Point26,xy, , ,in, deg, , ,N, , ,W, grid, , , ,N
Point27,xy, , ,in, deg, , ,N, , ,W, grid, , , ,N
Point28,xy, , ,in, deg, , ,N, , ,W, grid, , , ,N
Point29,xy, , ,in, deg, , ,N, , ,W, grid, , , ,N
Point30,xy, , ,in, deg, , ,N, , ,W, grid, , , ,N
Projection Setup, 0.000000000, 45.000000000, 1.000000000, 500000.00, 0.00,,,,,
Map Feature = MF ; Map Comment = MC These follow if they exist
Track File = TF These follow if they exist
Moving Map Parameters = MM? These follow if they exist
MM0,Yes
MMPNUM,4
MMPXY,1,96,99
MMPXY,2,2900,99
MMPXY,3,2900,3005
MMPXY,4,96,3005
MMPLL,1, 44.499250, 50.332910
MMPLL,2, 44.999860, 50.333180
MMPLL,3, 44.998664, 50.001104
MMPLL,4, 44.501511, 50.000841
MM1B,12.706645
MOP,Map Open Position,0,0
IWH,Map Image Width/Height,2996,3104
