OziExplorer Map Data File Version 2.2
100k--m38-071--1987.gif
100k--m38-071--1987.gif
1 ,Map Code,
Pulkovo 1942 (2),WGS 84, 0.0000, 0.0000,WGS 84
Reserved 1
Reserved 2
Magnetic Variation,,,E
Map Projection,Transverse Mercator,PolyCal,No,AutoCalOnly,No,BSBUseWPX,No
Point01,xy, 118, 98,in, deg, 50, 20.0000,N, 47, 0.0000,E, grid, , , ,N
Point02,xy, 1517, 106,in, deg, 50, 20.0000,N, 47, 15.0000,E, grid, , , ,N
Point03,xy, 2920, 110,in, deg, 50, 20.0000,N, 47, 30.0000,E, grid, , , ,N
Point04,xy, 106, 1556,in, deg, 50, 10.0000,N, 47, 0.0000,E, grid, , , ,N
Point05,xy, 1510, 1564,in, deg, 50, 10.0000,N, 47, 15.0000,E, grid, , , ,N
Point06,xy, 2918, 1564,in, deg, 50, 10.0000,N, 47, 30.0000,E, grid, , , ,N
Point07,xy, 94, 3012,in, deg, 50, 0.0000,N, 47, 0.0000,E, grid, , , ,N
Point08,xy, 1504, 3022,in, deg, 50, 0.0000,N, 47, 15.0000,E, grid, , , ,N
Point09,xy, 2918, 3022,in, deg, 50, 0.0000,N, 47, 30.0000,E, grid, , , ,N
Point10,xy, , ,in, deg, , ,N, , ,W, grid, , , ,N
Point11,xy, , ,in, deg, , ,N, , ,W, grid, , , ,N
Point12,xy, , ,in, deg, , ,N, , ,W, grid, , , ,N
Point13,xy, , ,in, deg, , ,N, , ,W, grid, , , ,N
Point14,xy, , ,in, deg, , ,N, , ,W, grid, , , ,N
Point15,xy, , ,in, deg, , ,N, , ,W, grid, , , ,N
Point16,xy, , ,in, deg, , ,N, , ,W, grid, , , ,N
Point17,xy, , ,in, deg, , ,N, , ,W, grid, , , ,N
Point18,xy, , ,in, deg, , ,N, , ,W, grid, , , ,N
Point19,xy, , ,in, deg, , ,N, , ,W, grid, , , ,N
Point20,xy, , ,in, deg, , ,N, , ,W, grid, , , ,N
Point21,xy, , ,in, deg, , ,N, , ,W, grid, , , ,N
Point22,xy, , ,in, deg, , ,N, , ,W, grid, , , ,N
Point23,xy, , ,in, deg, , ,N, , ,W, grid, , , ,N
Point24,xy, , ,in, deg, , ,N, , ,W, grid, , , ,N
Point25,xy, , ,in, deg, , ,N, , ,W, grid, , , ,N
Point26,xy, , ,in, deg, , ,N, , ,W, grid, , , ,N
Point27,xy, , ,in, deg, , ,N, , ,W, grid, , , ,N
Point28,xy, , ,in, deg, , ,N, , ,W, grid, , , ,N
Point29,xy, , ,in, deg, , ,N, , ,W, grid, , , ,N
Point30,xy, , ,in, deg, , ,N, , ,W, grid, , , ,N
Projection Setup, 0.000000000, 45.000000000, 1.000000000, 500000.00, 0.00,,,,,
Map Feature = MF ; Map Comment = MC These follow if they exist
Track File = TF These follow if they exist
Moving Map Parameters = MM? These follow if they exist
MM0,Yes
MMPNUM,4
MMPXY,1,96,100
MMPXY,2,2918,100
MMPXY,3,2918,3014
MMPXY,4,96,3014
MMPLL,1, 46.996303, 50.333190
MMPLL,2, 47.499711, 50.334322
MMPLL,3, 47.500283, 50.001016
MMPLL,4, 47.000366, 49.999847
MM1B,12.692802
MOP,Map Open Position,0,0
IWH,Map Image Width/Height,3014,3114
